BEGIN:VCALENDAR
VERSION:2.0
PRODID:-//mbike.gr - ECPv5.1.2.1//NONSGML v1.0//EN
CALSCALE:GREGORIAN
METHOD:PUBLISH
X-WR-CALNAME:mbike.gr
X-ORIGINAL-URL:https://www.mbike.gr
X-WR-CALDESC:mbike.gr - Εκδηλώσεις
BEGIN:VTIMEZONE
TZID:Europe/Athens
BEGIN:DAYLIGHT
TZOFFSETFROM:+0200
TZOFFSETTO:+0300
TZNAME:EEST
DTSTART:20190331T010000
END:DAYLIGHT
BEGIN:STANDARD
TZOFFSETFROM:+0300
TZOFFSETTO:+0200
TZNAME:EET
DTSTART:20191027T010000
END:STANDARD
END:VTIMEZONE
BEGIN:VEVENT
DTSTART;VALUE=DATE:20190929
DTEND;VALUE=DATE:20190930
DTSTAMP:20260423T202707
CREATED:20190715T130157Z
LAST-MODIFIED:20190715T130157Z
UID:37223-1569715200-1569801599@www.mbike.gr
SUMMARY:XCP ΚΑΤΩ ΤΙΘΟΡΕΑ ΜΤΒ RACE
DESCRIPTION:OPEN \n
URL:https://www.mbike.gr/race/xcp-%ce%ba%ce%b1%cf%84%cf%89-%cf%84%ce%b9%ce%b8%ce%bf%cf%81%ce%b5%ce%b1-%ce%bc%cf%84%ce%b2-race/
LOCATION:Κ. ΤΙΘΟΡΕΑ ΦΘΙΩΤ.
END:VEVENT
END:VCALENDAR