BEGIN:VCALENDAR
VERSION:2.0
PRODID:-//mbike.gr - ECPv5.1.2.1//NONSGML v1.0//EN
CALSCALE:GREGORIAN
METHOD:PUBLISH
X-WR-CALNAME:mbike.gr
X-ORIGINAL-URL:https://www.mbike.gr
X-WR-CALDESC:mbike.gr - Εκδηλώσεις
BEGIN:VTIMEZONE
TZID:Europe/Athens
BEGIN:DAYLIGHT
TZOFFSETFROM:+0200
TZOFFSETTO:+0300
TZNAME:EEST
DTSTART:20150329T010000
END:DAYLIGHT
BEGIN:STANDARD
TZOFFSETFROM:+0300
TZOFFSETTO:+0200
TZNAME:EET
DTSTART:20151025T010000
END:STANDARD
END:VTIMEZONE
BEGIN:VEVENT
DTSTART;VALUE=DATE:20151122
DTEND;VALUE=DATE:20151123
DTSTAMP:20260420T145349
CREATED:20151027T142657Z
LAST-MODIFIED:20151027T142657Z
UID:6841-1448150400-1448236799@www.mbike.gr
SUMMARY:XCC: Worldofbike Ilissia Race – Αττικό Κύπελλο 2015
DESCRIPTION:Open \n
URL:https://www.mbike.gr/race/xcc-worldofbike-ilissia-race-%ce%b1%cf%84%cf%84%ce%b9%ce%ba%cf%8c-%ce%ba%cf%8d%cf%80%ce%b5%ce%bb%ce%bb%ce%bf-2015/
LOCATION:Αττική-Ζωγράφου\, Ελλάδα
CATEGORIES:MTB
END:VEVENT
END:VCALENDAR