BEGIN:VCALENDAR
VERSION:2.0
PRODID:-//mbike.gr - ECPv5.1.2.1//NONSGML v1.0//EN
CALSCALE:GREGORIAN
METHOD:PUBLISH
X-WR-CALNAME:mbike.gr
X-ORIGINAL-URL:https://www.mbike.gr
X-WR-CALDESC:mbike.gr - Εκδηλώσεις
BEGIN:VTIMEZONE
TZID:Europe/Athens
BEGIN:DAYLIGHT
TZOFFSETFROM:+0200
TZOFFSETTO:+0300
TZNAME:EEST
DTSTART:20150329T010000
END:DAYLIGHT
BEGIN:STANDARD
TZOFFSETFROM:+0300
TZOFFSETTO:+0200
TZNAME:EET
DTSTART:20151025T010000
END:STANDARD
END:VTIMEZONE
BEGIN:VEVENT
DTSTART;VALUE=DATE:20150516
DTEND;VALUE=DATE:20150517
DTSTAMP:20260421T133555
CREATED:20151022T052433Z
LAST-MODIFIED:20151221T221312Z
UID:6652-1431734400-1431820799@www.mbike.gr
SUMMARY:World of racing BMX 1ος Αγώνας
DESCRIPTION:Ανδρών ΕΛΙΤ Ανδρών κάτω των 23 Γυναικών Εφήβων Νεανίδων Παίδων Κορασίδων Παμπαίδων Παγκορασίδων Μίνι (μικρά & μεγάλα) Μάστερ \n
URL:https://www.mbike.gr/race/world-of-racing-bmx-1%ce%bf%cf%82-%ce%b1%ce%b3%cf%8e%ce%bd%ce%b1%cf%82/
LOCATION:Νέα Μάκρη\, Αττική - Νέα Μάκρη\, Αττική\, Greece
CATEGORIES:BMX
END:VEVENT
END:VCALENDAR