BEGIN:VCALENDAR
VERSION:2.0
PRODID:-//mbike.gr - ECPv5.1.2.1//NONSGML v1.0//EN
CALSCALE:GREGORIAN
METHOD:PUBLISH
X-WR-CALNAME:mbike.gr
X-ORIGINAL-URL:https://www.mbike.gr
X-WR-CALDESC:mbike.gr - Εκδηλώσεις
BEGIN:VTIMEZONE
TZID:Europe/Athens
BEGIN:DAYLIGHT
TZOFFSETFROM:+0200
TZOFFSETTO:+0300
TZNAME:EEST
DTSTART:20180325T010000
END:DAYLIGHT
BEGIN:STANDARD
TZOFFSETFROM:+0300
TZOFFSETTO:+0200
TZNAME:EET
DTSTART:20181028T010000
END:STANDARD
END:VTIMEZONE
BEGIN:VEVENT
DTSTART;VALUE=DATE:20180810
DTEND;VALUE=DATE:20180813
DTSTAMP:20260420T130952
CREATED:20180112T144101Z
LAST-MODIFIED:20180112T144101Z
UID:27870-1533859200-1534118399@www.mbike.gr
SUMMARY:UCI MTB World Cup-XCO-XCC-DHI
DESCRIPTION:CDM \n
URL:https://www.mbike.gr/race/uci-mtb-world-cup-xco-xcc-dhi-3/
LOCATION:Καναδάς
CATEGORIES:MTB
END:VEVENT
END:VCALENDAR