BEGIN:VCALENDAR
VERSION:2.0
PRODID:-//mbike.gr - ECPv5.1.2.1//NONSGML v1.0//EN
CALSCALE:GREGORIAN
METHOD:PUBLISH
X-WR-CALNAME:mbike.gr
X-ORIGINAL-URL:https://www.mbike.gr
X-WR-CALDESC:mbike.gr - Εκδηλώσεις
BEGIN:VTIMEZONE
TZID:Europe/Athens
BEGIN:DAYLIGHT
TZOFFSETFROM:+0200
TZOFFSETTO:+0300
TZNAME:EEST
DTSTART:20190331T010000
END:DAYLIGHT
BEGIN:STANDARD
TZOFFSETFROM:+0300
TZOFFSETTO:+0200
TZNAME:EET
DTSTART:20191027T010000
END:STANDARD
END:VTIMEZONE
BEGIN:VEVENT
DTSTART;VALUE=DATE:20190502
DTEND;VALUE=DATE:20190506
DTSTAMP:20260420T130849
CREATED:20190218T142803Z
LAST-MODIFIED:20190218T142803Z
UID:34107-1556755200-1557100799@www.mbike.gr
SUMMARY:Tour de Yorkshire
DESCRIPTION:ΜΕ      2.HC \n
URL:https://www.mbike.gr/race/tour-de-yorkshire/
LOCATION:Μεγάλη Βρετανία
CATEGORIES:ROAD
END:VEVENT
END:VCALENDAR