BEGIN:VCALENDAR
VERSION:2.0
PRODID:-//mbike.gr - ECPv5.1.2.1//NONSGML v1.0//EN
CALSCALE:GREGORIAN
METHOD:PUBLISH
X-WR-CALNAME:mbike.gr
X-ORIGINAL-URL:https://www.mbike.gr
X-WR-CALDESC:mbike.gr - Εκδηλώσεις
BEGIN:VTIMEZONE
TZID:Europe/Athens
BEGIN:DAYLIGHT
TZOFFSETFROM:+0200
TZOFFSETTO:+0300
TZNAME:EEST
DTSTART:20160327T010000
END:DAYLIGHT
BEGIN:STANDARD
TZOFFSETFROM:+0300
TZOFFSETTO:+0200
TZNAME:EET
DTSTART:20161030T010000
END:STANDARD
END:VTIMEZONE
BEGIN:VEVENT
DTSTART;VALUE=DATE:20160712
DTEND;VALUE=DATE:20160719
DTSTAMP:20260423T120525
CREATED:20160120T133115Z
LAST-MODIFIED:20160120T133115Z
UID:14675-1468281600-1468886399@www.mbike.gr
SUMMARY:Tour de Pologne
DESCRIPTION:UCI WorldTour 2.UWT \n
URL:https://www.mbike.gr/race/tour-de-pologne-2016/
LOCATION:Πολωνία
CATEGORIES:ROAD
END:VEVENT
END:VCALENDAR