BEGIN:VCALENDAR
VERSION:2.0
PRODID:-//mbike.gr - ECPv5.1.2.1//NONSGML v1.0//EN
CALSCALE:GREGORIAN
METHOD:PUBLISH
X-WR-CALNAME:mbike.gr
X-ORIGINAL-URL:https://www.mbike.gr
X-WR-CALDESC:mbike.gr - Εκδηλώσεις
BEGIN:VTIMEZONE
TZID:Europe/Athens
BEGIN:DAYLIGHT
TZOFFSETFROM:+0200
TZOFFSETTO:+0300
TZNAME:EEST
DTSTART:20180325T010000
END:DAYLIGHT
BEGIN:STANDARD
TZOFFSETFROM:+0300
TZOFFSETTO:+0200
TZNAME:EET
DTSTART:20181028T010000
END:STANDARD
END:VTIMEZONE
BEGIN:VEVENT
DTSTART;VALUE=DATE:20180307
DTEND;VALUE=DATE:20180314
DTSTAMP:20260420T023145
CREATED:20180111T143647Z
LAST-MODIFIED:20180111T143647Z
UID:27723-1520380800-1520985599@www.mbike.gr
SUMMARY:Tirreno-Adriatico
DESCRIPTION:Άντρες  2.UWT \n
URL:https://www.mbike.gr/race/tirreno-adriatico/
LOCATION:Ιταλία
CATEGORIES:ROAD
END:VEVENT
END:VCALENDAR