BEGIN:VCALENDAR
VERSION:2.0
PRODID:-//mbike.gr - ECPv5.1.2.1//NONSGML v1.0//EN
CALSCALE:GREGORIAN
METHOD:PUBLISH
X-WR-CALNAME:mbike.gr
X-ORIGINAL-URL:https://www.mbike.gr
X-WR-CALDESC:mbike.gr - Εκδηλώσεις
BEGIN:VTIMEZONE
TZID:Europe/Athens
BEGIN:DAYLIGHT
TZOFFSETFROM:+0200
TZOFFSETTO:+0300
TZNAME:EEST
DTSTART:20170326T010000
END:DAYLIGHT
BEGIN:STANDARD
TZOFFSETFROM:+0300
TZOFFSETTO:+0200
TZNAME:EET
DTSTART:20171029T010000
END:STANDARD
END:VTIMEZONE
BEGIN:VEVENT
DTSTART;VALUE=DATE:20170708
DTEND;VALUE=DATE:20170710
DTSTAMP:20260420T104822
CREATED:20170613T074013Z
LAST-MODIFIED:20170613T074013Z
UID:24850-1499472000-1499644799@www.mbike.gr
SUMMARY:The Bridge Experience
DESCRIPTION:Κολύμβηση \nΠοδηλασία \nΤρέξιμο \nOpen \n  \n
URL:https://www.mbike.gr/race/the-bridge-experience/
LOCATION:Γέφυρα Ρίου Αντιρρίου
CATEGORIES:MULTISPORT
END:VEVENT
END:VCALENDAR