BEGIN:VCALENDAR
VERSION:2.0
PRODID:-//mbike.gr - ECPv5.1.2.1//NONSGML v1.0//EN
CALSCALE:GREGORIAN
METHOD:PUBLISH
X-WR-CALNAME:mbike.gr
X-ORIGINAL-URL:https://www.mbike.gr
X-WR-CALDESC:mbike.gr - Εκδηλώσεις
BEGIN:VTIMEZONE
TZID:Europe/Athens
BEGIN:DAYLIGHT
TZOFFSETFROM:+0200
TZOFFSETTO:+0300
TZNAME:EEST
DTSTART:20160327T010000
END:DAYLIGHT
BEGIN:STANDARD
TZOFFSETFROM:+0300
TZOFFSETTO:+0200
TZNAME:EET
DTSTART:20161030T010000
END:STANDARD
END:VTIMEZONE
BEGIN:VEVENT
DTSTART;VALUE=DATE:20160403
DTEND;VALUE=DATE:20160404
DTSTAMP:20260420T200016
CREATED:20160114T130946Z
LAST-MODIFIED:20160114T131048Z
UID:14482-1459641600-1459727999@www.mbike.gr
SUMMARY:Ronde van Vlaanderen/Tour des Flandres
DESCRIPTION:UCI WorldTour1.UWT \n
URL:https://www.mbike.gr/race/ronde-van-vlaanderentour-des-flandres-2016/
LOCATION:Βέλγιο\, Belgium
CATEGORIES:ROAD
END:VEVENT
END:VCALENDAR