BEGIN:VCALENDAR
VERSION:2.0
PRODID:-//mbike.gr - ECPv5.1.2.1//NONSGML v1.0//EN
CALSCALE:GREGORIAN
METHOD:PUBLISH
X-WR-CALNAME:mbike.gr
X-ORIGINAL-URL:https://www.mbike.gr
X-WR-CALDESC:mbike.gr - Εκδηλώσεις
BEGIN:VTIMEZONE
TZID:Europe/Athens
BEGIN:DAYLIGHT
TZOFFSETFROM:+0200
TZOFFSETTO:+0300
TZNAME:EEST
DTSTART:20170326T010000
END:DAYLIGHT
BEGIN:STANDARD
TZOFFSETFROM:+0300
TZOFFSETTO:+0200
TZNAME:EET
DTSTART:20171029T010000
END:STANDARD
END:VTIMEZONE
BEGIN:VEVENT
DTSTART;VALUE=DATE:20170827
DTEND;VALUE=DATE:20170828
DTSTAMP:20260420T181831
CREATED:20170411T112308Z
LAST-MODIFIED:20170411T113327Z
UID:23437-1503792000-1503878399@www.mbike.gr
SUMMARY:Protect Aoos» MTB Ultra
DESCRIPTION:Η Ultra διαδρομή και φέτος θα είναι κατά τι μεγαλύτερη των 100 χιλιομέτρων (100+km) με τα υψομετρικά της περίπου στα 3.500μ\, περνώντας τρεις φορές τα 1.600 μέτρα υψόμετρο (1.642μ\, 1.602μ & 1.644μ) και με ασφάλτινη διαδρομή στα 8\,5km περίπου. \n
URL:https://www.mbike.gr/race/protect-aoos-mtb-ultra/
LOCATION:Βωβούσα\, Ζαγόρι\, Ελλάδα
CATEGORIES:MTB
END:VEVENT
END:VCALENDAR