BEGIN:VCALENDAR
VERSION:2.0
PRODID:-//mbike.gr - ECPv5.1.2.1//NONSGML v1.0//EN
CALSCALE:GREGORIAN
METHOD:PUBLISH
X-WR-CALNAME:mbike.gr
X-ORIGINAL-URL:https://www.mbike.gr
X-WR-CALDESC:mbike.gr - Εκδηλώσεις
BEGIN:VTIMEZONE
TZID:Europe/Athens
BEGIN:DAYLIGHT
TZOFFSETFROM:+0200
TZOFFSETTO:+0300
TZNAME:EEST
DTSTART:20190331T010000
END:DAYLIGHT
BEGIN:STANDARD
TZOFFSETFROM:+0300
TZOFFSETTO:+0200
TZNAME:EET
DTSTART:20191027T010000
END:STANDARD
END:VTIMEZONE
BEGIN:VEVENT
DTSTART;VALUE=DATE:20190416
DTEND;VALUE=DATE:20190422
DTSTAMP:20260420T164244
CREATED:20190215T140634Z
LAST-MODIFIED:20190215T140634Z
UID:33992-1555372800-1555891199@www.mbike.gr
SUMMARY:Presidential Cyclign Tour of Turkey
DESCRIPTION:ΜΕ      2.UWT \n
URL:https://www.mbike.gr/race/presidential-cyclign-tour-of-turkey/
LOCATION:Τουρκία
CATEGORIES:ROAD
END:VEVENT
END:VCALENDAR