BEGIN:VCALENDAR
VERSION:2.0
PRODID:-//mbike.gr - ECPv5.1.2.1//NONSGML v1.0//EN
CALSCALE:GREGORIAN
METHOD:PUBLISH
X-WR-CALNAME:mbike.gr
X-ORIGINAL-URL:https://www.mbike.gr
X-WR-CALDESC:mbike.gr - Εκδηλώσεις
BEGIN:VTIMEZONE
TZID:Europe/Athens
BEGIN:DAYLIGHT
TZOFFSETFROM:+0200
TZOFFSETTO:+0300
TZNAME:EEST
DTSTART:20160327T010000
END:DAYLIGHT
BEGIN:STANDARD
TZOFFSETFROM:+0300
TZOFFSETTO:+0200
TZNAME:EET
DTSTART:20161030T010000
END:STANDARD
END:VTIMEZONE
BEGIN:VEVENT
DTSTART;VALUE=DATE:20160207
DTEND;VALUE=DATE:20160208
DTSTAMP:20260420T032940
CREATED:20160118T141346Z
LAST-MODIFIED:20160118T141346Z
UID:14630-1454803200-1454889599@www.mbike.gr
SUMMARY:Pearl Izumi mountain cup
DESCRIPTION:Open \n  \n
URL:https://www.mbike.gr/race/pearl-izumi-mountain-cup/
LOCATION:Ελλάδα\, Greece
CATEGORIES:MTB
END:VEVENT
END:VCALENDAR