BEGIN:VCALENDAR
VERSION:2.0
PRODID:-//mbike.gr - ECPv5.1.2.1//NONSGML v1.0//EN
CALSCALE:GREGORIAN
METHOD:PUBLISH
X-WR-CALNAME:mbike.gr
X-ORIGINAL-URL:https://www.mbike.gr
X-WR-CALDESC:mbike.gr - Εκδηλώσεις
BEGIN:VTIMEZONE
TZID:Europe/Athens
BEGIN:DAYLIGHT
TZOFFSETFROM:+0200
TZOFFSETTO:+0300
TZNAME:EEST
DTSTART:20190331T010000
END:DAYLIGHT
BEGIN:STANDARD
TZOFFSETFROM:+0300
TZOFFSETTO:+0200
TZNAME:EET
DTSTART:20191027T010000
END:STANDARD
END:VTIMEZONE
BEGIN:VEVENT
DTSTART;VALUE=DATE:20190310
DTEND;VALUE=DATE:20190311
DTSTAMP:20260420T125314
CREATED:20190215T084314Z
LAST-MODIFIED:20190215T084314Z
UID:33790-1552176000-1552262399@www.mbike.gr
SUMMARY:Omloop van de Westhoek – Memorial Stive Vermaut
DESCRIPTION:WE      1.1 \n
URL:https://www.mbike.gr/race/omloop-van-de-westhoek-memorial-stive-vermaut/
LOCATION:Βέλγιο
CATEGORIES:ROAD
END:VEVENT
END:VCALENDAR