BEGIN:VCALENDAR
VERSION:2.0
PRODID:-//mbike.gr - ECPv5.1.2.1//NONSGML v1.0//EN
CALSCALE:GREGORIAN
METHOD:PUBLISH
X-WR-CALNAME:mbike.gr
X-ORIGINAL-URL:https://www.mbike.gr
X-WR-CALDESC:mbike.gr - Εκδηλώσεις
BEGIN:VTIMEZONE
TZID:Europe/Athens
BEGIN:DAYLIGHT
TZOFFSETFROM:+0200
TZOFFSETTO:+0300
TZNAME:EEST
DTSTART:20160327T010000
END:DAYLIGHT
BEGIN:STANDARD
TZOFFSETFROM:+0300
TZOFFSETTO:+0200
TZNAME:EET
DTSTART:20161030T010000
END:STANDARD
END:VTIMEZONE
BEGIN:VEVENT
DTSTART;TZID=Europe/Athens:20160619T080000
DTEND;TZID=Europe/Athens:20160619T180000
DTSTAMP:20260420T141922
CREATED:20160526T125013Z
LAST-MODIFIED:20160623T101030Z
UID:17457-1466323200-1466359200@www.mbike.gr
SUMMARY:Nafplio Energy Triathlon
DESCRIPTION:Kατεβάστε τα αποτελέσματα του αγώνα: \nAll Gender\nFemale 20 to 39\nGeneral\n  \nΑγώνας Sprint Triathlon (750μ κολύμβηση – 20χλμ ποδηλασία – 5χλμ τρέξιμο)\nΚολύμβηση (1 κύκλος x 750μ)\nΠοδηλασία (1 κύκλος x 20χλμ)\nΤρέξιμο (2 κύκλοι x 2\,5χλμ) \nΑγώνας Aquathlon Sprint (750μ κολύμβηση – 5χλμ τρέξιμο)\nΚολύμβηση (1 κύκλος x 750μ)\nΤρέξιμο (2 κύκλοι x 2\,5χλμ) \nΑγώνας Aquathlon Super Sprint (300μ κολύμβηση – 2\,5χλμ τρέξιμο)\nΚολύμβηση (1 κύκλος x 300μ)\nΤρέξιμο (1 κύκλος x 2\,5χλμ) \n
URL:https://www.mbike.gr/race/nafplio-energy-triathlon/
LOCATION:Ναύπλιο\, Ναύπλιο\, Ελλάδα
CATEGORIES:MULTISPORT
END:VEVENT
END:VCALENDAR