BEGIN:VCALENDAR
VERSION:2.0
PRODID:-//mbike.gr - ECPv5.1.2.1//NONSGML v1.0//EN
CALSCALE:GREGORIAN
METHOD:PUBLISH
X-WR-CALNAME:mbike.gr
X-ORIGINAL-URL:https://www.mbike.gr
X-WR-CALDESC:mbike.gr - Εκδηλώσεις
BEGIN:VTIMEZONE
TZID:Europe/Athens
BEGIN:DAYLIGHT
TZOFFSETFROM:+0200
TZOFFSETTO:+0300
TZNAME:EEST
DTSTART:20170326T010000
END:DAYLIGHT
BEGIN:STANDARD
TZOFFSETFROM:+0300
TZOFFSETTO:+0200
TZNAME:EET
DTSTART:20171029T010000
END:STANDARD
END:VTIMEZONE
BEGIN:VEVENT
DTSTART;VALUE=DATE:20170715
DTEND;VALUE=DATE:20170717
DTSTAMP:20260420T132317
CREATED:20161215T123615Z
LAST-MODIFIED:20161215T123615Z
UID:21618-1500076800-1500249599@www.mbike.gr
SUMMARY:Multisports Festival - Πανελλήνιο Πρωτάθλημα Cross Triathlon
DESCRIPTION:Cross Triathlon \nAquathlon \n
URL:https://www.mbike.gr/race/multisports-festival-%cf%80%ce%b1%ce%bd%ce%b5%ce%bb%ce%bb%ce%ae%ce%bd%ce%b9%ce%bf-%cf%80%cf%81%cf%89%cf%84%ce%ac%ce%b8%ce%bb%ce%b7%ce%bc%ce%b1-cross-triathlon/
LOCATION:Λίμνη Βουλιαγμένης Λουτρακίου
CATEGORIES:MULTISPORT
END:VEVENT
END:VCALENDAR