BEGIN:VCALENDAR
VERSION:2.0
PRODID:-//mbike.gr - ECPv5.1.2.1//NONSGML v1.0//EN
CALSCALE:GREGORIAN
METHOD:PUBLISH
X-WR-CALNAME:mbike.gr
X-ORIGINAL-URL:https://www.mbike.gr
X-WR-CALDESC:mbike.gr - Εκδηλώσεις
BEGIN:VTIMEZONE
TZID:Europe/Athens
BEGIN:DAYLIGHT
TZOFFSETFROM:+0200
TZOFFSETTO:+0300
TZNAME:EEST
DTSTART:20180325T010000
END:DAYLIGHT
BEGIN:STANDARD
TZOFFSETFROM:+0300
TZOFFSETTO:+0200
TZNAME:EET
DTSTART:20181028T010000
END:STANDARD
END:VTIMEZONE
BEGIN:VEVENT
DTSTART;VALUE=DATE:20180304
DTEND;VALUE=DATE:20180305
DTSTAMP:20260420T005117
CREATED:20180221T114606Z
LAST-MODIFIED:20180221T114606Z
UID:28403-1520121600-1520207999@www.mbike.gr
SUMMARY:MTB Τρικάλων 2018
DESCRIPTION:Μίνι Μικρά \nΜίνι Μεγάλα \nΠαμπαίδες-Πανκορασίδες-Κορασίδες \nΠαίδες \nΓυναίκες \n  \n
URL:https://www.mbike.gr/race/mtb-%cf%84%cf%81%ce%b9%ce%ba%ce%ac%ce%bb%cf%89%ce%bd-2018/
LOCATION:Προφήτης Ηλίας Τρικάλων
CATEGORIES:MTB
END:VEVENT
END:VCALENDAR