BEGIN:VCALENDAR
VERSION:2.0
PRODID:-//mbike.gr - ECPv5.1.2.1//NONSGML v1.0//EN
CALSCALE:GREGORIAN
METHOD:PUBLISH
X-WR-CALNAME:mbike.gr
X-ORIGINAL-URL:https://www.mbike.gr
X-WR-CALDESC:mbike.gr - Εκδηλώσεις
BEGIN:VTIMEZONE
TZID:Europe/Athens
BEGIN:DAYLIGHT
TZOFFSETFROM:+0200
TZOFFSETTO:+0300
TZNAME:EEST
DTSTART:20160327T010000
END:DAYLIGHT
BEGIN:STANDARD
TZOFFSETFROM:+0300
TZOFFSETTO:+0200
TZNAME:EET
DTSTART:20161030T010000
END:STANDARD
END:VTIMEZONE
BEGIN:VEVENT
DTSTART;TZID=Europe/Athens:20160821T180000
DTEND;TZID=Europe/Athens:20160821T210000
DTSTAMP:20260420T161303
CREATED:20160609T114433Z
LAST-MODIFIED:20160609T114637Z
UID:17815-1471802400-1471813200@www.mbike.gr
SUMMARY:Mountain Bike 42km και 25km\,  Ορεινή Ναυπακτία
DESCRIPTION:\n			Κατηγορίες για 42km: 18 -29 ετών\, 30 – 39 ετών\, 40 – 49 ετών\, 50 ετών και άνω και Γυναικών 18 ετών και άνω.\nΚατηγορίες για 25km: Ανδρών – Γυναικών – Εφήβων 14-17 ετών\n			\n\n			 junior bike games για παιδιά 4 έως και 9 ετών με την βοήθεια εθελοντών του Πράσινο+Μπλε\n			\n
URL:https://www.mbike.gr/race/mtb-%ce%bf%cf%81%ce%b5%ce%b9%ce%bd%ce%ae-%ce%bd%ce%b1%cf%85%cf%80%ce%b1%ce%ba%cf%84%ce%af%ce%b1/
LOCATION:Άνω Χώρα Ναυπάκτου
CATEGORIES:MTB
ORGANIZER;CN="%22%CE%A0%CF%81%CE%AC%CF%83%CE%B9%CE%BD%CE%BF%2B%CE%9C%CF%80%CE%BB%CE%B5%22":MAILTO: info@prasinomple.gr
END:VEVENT
END:VCALENDAR