BEGIN:VCALENDAR
VERSION:2.0
PRODID:-//mbike.gr - ECPv5.1.2.1//NONSGML v1.0//EN
CALSCALE:GREGORIAN
METHOD:PUBLISH
X-WR-CALNAME:mbike.gr
X-ORIGINAL-URL:https://www.mbike.gr
X-WR-CALDESC:mbike.gr - Εκδηλώσεις
BEGIN:VTIMEZONE
TZID:Europe/Athens
BEGIN:DAYLIGHT
TZOFFSETFROM:+0200
TZOFFSETTO:+0300
TZNAME:EEST
DTSTART:20190331T010000
END:DAYLIGHT
BEGIN:STANDARD
TZOFFSETFROM:+0300
TZOFFSETTO:+0200
TZNAME:EET
DTSTART:20191027T010000
END:STANDARD
END:VTIMEZONE
BEGIN:VEVENT
DTSTART;VALUE=DATE:20190714
DTEND;VALUE=DATE:20190715
DTSTAMP:20260421T125652
CREATED:20190626T122259Z
LAST-MODIFIED:20190626T122259Z
UID:36918-1563062400-1563148799@www.mbike.gr
SUMMARY:MTB - ΓΥΡΟΣ ΑΓ. ΑΠΟΣΤΟΛΩΝ
DESCRIPTION:Ανδρών \nΚάτω των 23 \nΕφήβων \nΚορασίδων \nΠαμπαίδων \nΜίνι μικρά και μεγάλα \nΜάστερς \nOpen \n
URL:https://www.mbike.gr/race/mtb-%ce%b3%cf%85%cf%81%ce%bf%cf%83-%ce%b1%ce%b3-%ce%b1%cf%80%ce%bf%cf%83%cf%84%ce%bf%ce%bb%cf%89%ce%bd/
LOCATION:Ρέθυμνο Κρήτη
END:VEVENT
END:VCALENDAR