BEGIN:VCALENDAR
VERSION:2.0
PRODID:-//mbike.gr - ECPv5.1.2.1//NONSGML v1.0//EN
CALSCALE:GREGORIAN
METHOD:PUBLISH
X-WR-CALNAME:mbike.gr
X-ORIGINAL-URL:https://www.mbike.gr
X-WR-CALDESC:mbike.gr - Εκδηλώσεις
BEGIN:VTIMEZONE
TZID:Europe/Athens
BEGIN:DAYLIGHT
TZOFFSETFROM:+0200
TZOFFSETTO:+0300
TZNAME:EEST
DTSTART:20160327T010000
END:DAYLIGHT
BEGIN:STANDARD
TZOFFSETFROM:+0300
TZOFFSETTO:+0200
TZNAME:EET
DTSTART:20161030T010000
END:STANDARD
END:VTIMEZONE
BEGIN:VEVENT
DTSTART;TZID=Europe/Athens:20160715T080000
DTEND;TZID=Europe/Athens:20160715T080000
DTSTAMP:20260423T101153
CREATED:20160623T122345Z
LAST-MODIFIED:20160623T122345Z
UID:18426-1468569600-1468569600@www.mbike.gr
SUMMARY:Lepanto 2016
DESCRIPTION:Πανελλήνιο Πρωτάθλημα ορεινής ποδηλασίας Cross Country \n
URL:https://www.mbike.gr/race/lepanto-2016/
LOCATION:Ναύπακτος\, Ναύπακτος\, Greece
CATEGORIES:MTB
END:VEVENT
END:VCALENDAR