BEGIN:VCALENDAR
VERSION:2.0
PRODID:-//mbike.gr - ECPv5.1.2.1//NONSGML v1.0//EN
CALSCALE:GREGORIAN
METHOD:PUBLISH
X-WR-CALNAME:mbike.gr
X-ORIGINAL-URL:https://www.mbike.gr
X-WR-CALDESC:mbike.gr - Εκδηλώσεις
BEGIN:VTIMEZONE
TZID:Europe/Athens
BEGIN:DAYLIGHT
TZOFFSETFROM:+0200
TZOFFSETTO:+0300
TZNAME:EEST
DTSTART:20190331T010000
END:DAYLIGHT
BEGIN:STANDARD
TZOFFSETFROM:+0300
TZOFFSETTO:+0200
TZNAME:EET
DTSTART:20191027T010000
END:STANDARD
END:VTIMEZONE
BEGIN:VEVENT
DTSTART;VALUE=DATE:20190424
DTEND;VALUE=DATE:20190425
DTSTAMP:20260420T164138
CREATED:20190218T124119Z
LAST-MODIFIED:20190218T124253Z
UID:34045-1556064000-1556150399@www.mbike.gr
SUMMARY:La Fleche Wallone
DESCRIPTION:ME      1.UWT \nWE      1.WWT \n
URL:https://www.mbike.gr/race/la-fleche-wallone/
LOCATION:Βέλγιο
CATEGORIES:ROAD
END:VEVENT
END:VCALENDAR