BEGIN:VCALENDAR
VERSION:2.0
PRODID:-//mbike.gr - ECPv5.1.2.1//NONSGML v1.0//EN
CALSCALE:GREGORIAN
METHOD:PUBLISH
X-WR-CALNAME:mbike.gr
X-ORIGINAL-URL:https://www.mbike.gr
X-WR-CALDESC:mbike.gr - Εκδηλώσεις
BEGIN:VTIMEZONE
TZID:Europe/Athens
BEGIN:DAYLIGHT
TZOFFSETFROM:+0200
TZOFFSETTO:+0300
TZNAME:EEST
DTSTART:20180325T010000
END:DAYLIGHT
BEGIN:STANDARD
TZOFFSETFROM:+0300
TZOFFSETTO:+0200
TZNAME:EET
DTSTART:20181028T010000
END:STANDARD
END:VTIMEZONE
BEGIN:VEVENT
DTSTART;VALUE=DATE:20180602
DTEND;VALUE=DATE:20180604
DTSTAMP:20260423T104239
CREATED:20180417T084819Z
LAST-MODIFIED:20180417T084819Z
UID:29460-1527897600-1528070399@www.mbike.gr
SUMMARY:Hydrama Tour
DESCRIPTION:Elite Εφήβων \nΕlite Ανδρων \nΔιασυλλογικοί Masters \nOpen Εφήβων 18-29\, 30-39\, 40-49\, 50+ \nΓυναικών \n
URL:https://www.mbike.gr/race/hydrama-tour/
LOCATION:Νευροκόπι Δράμα
CATEGORIES:ROAD
END:VEVENT
END:VCALENDAR