BEGIN:VCALENDAR
VERSION:2.0
PRODID:-//mbike.gr - ECPv5.1.2.1//NONSGML v1.0//EN
CALSCALE:GREGORIAN
METHOD:PUBLISH
X-WR-CALNAME:mbike.gr
X-ORIGINAL-URL:https://www.mbike.gr
X-WR-CALDESC:mbike.gr - Εκδηλώσεις
BEGIN:VTIMEZONE
TZID:Europe/Athens
BEGIN:DAYLIGHT
TZOFFSETFROM:+0200
TZOFFSETTO:+0300
TZNAME:EEST
DTSTART:20160327T010000
END:DAYLIGHT
BEGIN:STANDARD
TZOFFSETFROM:+0300
TZOFFSETTO:+0200
TZNAME:EET
DTSTART:20161030T010000
END:STANDARD
END:VTIMEZONE
BEGIN:VEVENT
DTSTART;VALUE=DATE:20160207
DTEND;VALUE=DATE:20160208
DTSTAMP:20260420T052710
CREATED:20160115T125816Z
LAST-MODIFIED:20160115T125816Z
UID:14580-1454803200-1454889599@www.mbike.gr
SUMMARY:Hellas-Salamina Island MTB XCO
DESCRIPTION:All International Competitions 1 \n
URL:https://www.mbike.gr/race/hellas-salamina-island-mtb-xco/
LOCATION:Ελλάδα\, Greece
CATEGORIES:MTB
END:VEVENT
END:VCALENDAR