BEGIN:VCALENDAR
VERSION:2.0
PRODID:-//mbike.gr - ECPv5.1.2.1//NONSGML v1.0//EN
CALSCALE:GREGORIAN
METHOD:PUBLISH
X-WR-CALNAME:mbike.gr
X-ORIGINAL-URL:https://www.mbike.gr
X-WR-CALDESC:mbike.gr - Εκδηλώσεις
BEGIN:VTIMEZONE
TZID:Europe/Athens
BEGIN:DAYLIGHT
TZOFFSETFROM:+0200
TZOFFSETTO:+0300
TZNAME:EEST
DTSTART:20190331T010000
END:DAYLIGHT
BEGIN:STANDARD
TZOFFSETFROM:+0300
TZOFFSETTO:+0200
TZNAME:EET
DTSTART:20191027T010000
END:STANDARD
END:VTIMEZONE
BEGIN:VEVENT
DTSTART;VALUE=DATE:20190302
DTEND;VALUE=DATE:20190303
DTSTAMP:20260420T151027
CREATED:20190215T081715Z
LAST-MODIFIED:20190215T081715Z
UID:33759-1551484800-1551571199@www.mbike.gr
SUMMARY:Faun Environnement – Classic de l’ Arbeche Rhone Crussol
DESCRIPTION:ΜΕ  1.1 \n
URL:https://www.mbike.gr/race/faun-environnement-classic-de-l-arbeche-rhone-crussol/
LOCATION:Γαλλία
CATEGORIES:ROAD
END:VEVENT
END:VCALENDAR