BEGIN:VCALENDAR
VERSION:2.0
PRODID:-//mbike.gr - ECPv5.1.2.1//NONSGML v1.0//EN
CALSCALE:GREGORIAN
METHOD:PUBLISH
X-WR-CALNAME:mbike.gr
X-ORIGINAL-URL:https://www.mbike.gr
X-WR-CALDESC:mbike.gr - Εκδηλώσεις
BEGIN:VTIMEZONE
TZID:Europe/Athens
BEGIN:DAYLIGHT
TZOFFSETFROM:+0200
TZOFFSETTO:+0300
TZNAME:EEST
DTSTART:20190331T010000
END:DAYLIGHT
BEGIN:STANDARD
TZOFFSETFROM:+0300
TZOFFSETTO:+0200
TZNAME:EET
DTSTART:20191027T010000
END:STANDARD
END:VTIMEZONE
BEGIN:VEVENT
DTSTART;VALUE=DATE:20190426
DTEND;VALUE=DATE:20190429
DTSTAMP:20260420T104248
CREATED:20190218T130026Z
LAST-MODIFIED:20190218T130429Z
UID:34062-1556236800-1556495999@www.mbike.gr
SUMMARY:EPZ Omloop van Borsele
DESCRIPTION:WJ      2.Νcup \nWE      1.1 \n
URL:https://www.mbike.gr/race/epz-omloop-van-borsele/
LOCATION:Ολλανδία
CATEGORIES:ROAD
END:VEVENT
END:VCALENDAR