BEGIN:VCALENDAR
VERSION:2.0
PRODID:-//mbike.gr - ECPv5.1.2.1//NONSGML v1.0//EN
CALSCALE:GREGORIAN
METHOD:PUBLISH
X-WR-CALNAME:mbike.gr
X-ORIGINAL-URL:https://www.mbike.gr
X-WR-CALDESC:mbike.gr - Εκδηλώσεις
BEGIN:VTIMEZONE
TZID:Europe/Athens
BEGIN:DAYLIGHT
TZOFFSETFROM:+0200
TZOFFSETTO:+0300
TZNAME:EEST
DTSTART:20160327T010000
END:DAYLIGHT
BEGIN:STANDARD
TZOFFSETFROM:+0300
TZOFFSETTO:+0200
TZNAME:EET
DTSTART:20161030T010000
END:STANDARD
END:VTIMEZONE
BEGIN:VEVENT
DTSTART;VALUE=DATE:20160325
DTEND;VALUE=DATE:20160326
DTSTAMP:20260420T235020
CREATED:20160114T122439Z
LAST-MODIFIED:20160114T122439Z
UID:14478-1458864000-1458950399@www.mbike.gr
SUMMARY:E3 Harelbeke
DESCRIPTION:UCI WorldTour1.UWT \n
URL:https://www.mbike.gr/race/e3-harelbeke-2016/
LOCATION:Βέλγιο\, Belgium
CATEGORIES:ROAD
END:VEVENT
END:VCALENDAR