BEGIN:VCALENDAR
VERSION:2.0
PRODID:-//mbike.gr - ECPv5.1.2.1//NONSGML v1.0//EN
CALSCALE:GREGORIAN
METHOD:PUBLISH
X-WR-CALNAME:mbike.gr
X-ORIGINAL-URL:https://www.mbike.gr
X-WR-CALDESC:mbike.gr - Εκδηλώσεις
BEGIN:VTIMEZONE
TZID:Europe/Athens
BEGIN:DAYLIGHT
TZOFFSETFROM:+0200
TZOFFSETTO:+0300
TZNAME:EEST
DTSTART:20160327T010000
END:DAYLIGHT
BEGIN:STANDARD
TZOFFSETFROM:+0300
TZOFFSETTO:+0200
TZNAME:EET
DTSTART:20161030T010000
END:STANDARD
END:VTIMEZONE
BEGIN:VEVENT
DTSTART;VALUE=DATE:20160306
DTEND;VALUE=DATE:20160307
DTSTAMP:20260420T072129
CREATED:20160115T133641Z
LAST-MODIFIED:20160115T133641Z
UID:14596-1457222400-1457308799@www.mbike.gr
SUMMARY:Cyprus Sunshine Cup
DESCRIPTION:All International Competitions 1 \n
URL:https://www.mbike.gr/race/cyprus-sunshine-cup-2016/
LOCATION:Κύπρος
CATEGORIES:MTB
END:VEVENT
END:VCALENDAR