BEGIN:VCALENDAR
VERSION:2.0
PRODID:-//mbike.gr - ECPv5.1.2.1//NONSGML v1.0//EN
CALSCALE:GREGORIAN
METHOD:PUBLISH
X-WR-CALNAME:mbike.gr
X-ORIGINAL-URL:https://www.mbike.gr
X-WR-CALDESC:mbike.gr - Εκδηλώσεις
BEGIN:VTIMEZONE
TZID:Europe/Athens
BEGIN:DAYLIGHT
TZOFFSETFROM:+0200
TZOFFSETTO:+0300
TZNAME:EEST
DTSTART:20160327T010000
END:DAYLIGHT
BEGIN:STANDARD
TZOFFSETFROM:+0300
TZOFFSETTO:+0200
TZNAME:EET
DTSTART:20161030T010000
END:STANDARD
END:VTIMEZONE
BEGIN:VEVENT
DTSTART;VALUE=DATE:20160821
DTEND;VALUE=DATE:20160822
DTSTAMP:20260420T180031
CREATED:20160120T140629Z
LAST-MODIFIED:20160120T140629Z
UID:14681-1471737600-1471823999@www.mbike.gr
SUMMARY:Cyclassics Hamburg
DESCRIPTION:UCI WorldTour 1.UWT \n
URL:https://www.mbike.gr/race/cyclassics-hamburg-2016/
LOCATION:Γερμανία
CATEGORIES:ROAD
END:VEVENT
END:VCALENDAR