BEGIN:VCALENDAR
VERSION:2.0
PRODID:-//mbike.gr - ECPv5.1.2.1//NONSGML v1.0//EN
CALSCALE:GREGORIAN
METHOD:PUBLISH
X-WR-CALNAME:mbike.gr
X-ORIGINAL-URL:https://www.mbike.gr
X-WR-CALDESC:mbike.gr - Εκδηλώσεις
BEGIN:VTIMEZONE
TZID:Europe/Athens
BEGIN:DAYLIGHT
TZOFFSETFROM:+0200
TZOFFSETTO:+0300
TZNAME:EEST
DTSTART:20160327T010000
END:DAYLIGHT
BEGIN:STANDARD
TZOFFSETFROM:+0300
TZOFFSETTO:+0200
TZNAME:EET
DTSTART:20161030T010000
END:STANDARD
END:VTIMEZONE
BEGIN:VEVENT
DTSTART;VALUE=DATE:20160827
DTEND;VALUE=DATE:20160828
DTSTAMP:20260420T141206
CREATED:20160727T090720Z
LAST-MODIFIED:20160727T090720Z
UID:19247-1472256000-1472256000@www.mbike.gr
SUMMARY:BREVET Ελικώνας
DESCRIPTION:300χλμ \n
URL:https://www.mbike.gr/race/brevet-%ce%b5%ce%bb%ce%b9%ce%ba%cf%8e%ce%bd%ce%b1%cf%82/
LOCATION:Ελικώνας\, Ελλάδα
CATEGORIES:ROAD
END:VEVENT
END:VCALENDAR