BEGIN:VCALENDAR
VERSION:2.0
PRODID:-//mbike.gr - ECPv5.1.2.1//NONSGML v1.0//EN
CALSCALE:GREGORIAN
METHOD:PUBLISH
X-WR-CALNAME:mbike.gr
X-ORIGINAL-URL:https://www.mbike.gr
X-WR-CALDESC:mbike.gr - Εκδηλώσεις
BEGIN:VTIMEZONE
TZID:Europe/Athens
BEGIN:DAYLIGHT
TZOFFSETFROM:+0200
TZOFFSETTO:+0300
TZNAME:EEST
DTSTART:20180325T010000
END:DAYLIGHT
BEGIN:STANDARD
TZOFFSETFROM:+0300
TZOFFSETTO:+0200
TZNAME:EET
DTSTART:20181028T010000
END:STANDARD
END:VTIMEZONE
BEGIN:VEVENT
DTSTART;VALUE=DATE:20180813
DTEND;VALUE=DATE:20180820
DTSTAMP:20260420T165011
CREATED:20180112T121411Z
LAST-MODIFIED:20180112T121411Z
UID:27799-1534118400-1534723199@www.mbike.gr
SUMMARY:Binck Bank Tour
DESCRIPTION:Άντρες 2.UWT \n
URL:https://www.mbike.gr/race/binck-bank-tour/
CATEGORIES:ROAD
END:VEVENT
END:VCALENDAR