BEGIN:VCALENDAR
VERSION:2.0
PRODID:-//mbike.gr - ECPv5.1.2.1//NONSGML v1.0//EN
CALSCALE:GREGORIAN
METHOD:PUBLISH
X-WR-CALNAME:mbike.gr
X-ORIGINAL-URL:https://www.mbike.gr
X-WR-CALDESC:mbike.gr - Εκδηλώσεις
BEGIN:VTIMEZONE
TZID:Europe/Athens
BEGIN:DAYLIGHT
TZOFFSETFROM:+0200
TZOFFSETTO:+0300
TZNAME:EEST
DTSTART:20190331T010000
END:DAYLIGHT
BEGIN:STANDARD
TZOFFSETFROM:+0300
TZOFFSETTO:+0200
TZNAME:EET
DTSTART:20191027T010000
END:STANDARD
END:VTIMEZONE
BEGIN:VEVENT
DTSTART;VALUE=DATE:20191013
DTEND;VALUE=DATE:20191014
DTSTAMP:20260420T125553
CREATED:20190725T093646Z
LAST-MODIFIED:20190725T093646Z
UID:37361-1570924800-1571011199@www.mbike.gr
SUMMARY:9ο PODILATO.EU CUP 2019-DROSOPIGIRACE XCO
DESCRIPTION:Παίδων \nΚορασίδων \nΠαμπαίδων \nΠανκορασίδων \nΜίνι (Μικ. & Μεγ.) \nΜάστερς \nOpen \n
URL:https://www.mbike.gr/race/9%ce%bf-podilato-eu-cup-2019-drosopigirace-xco/
LOCATION:Δροσοπηγή Φλώρινας\, Δροσοπηγή\, Φλώρινα\, Greece
END:VEVENT
END:VCALENDAR