BEGIN:VCALENDAR
VERSION:2.0
PRODID:-//mbike.gr - ECPv5.1.2.1//NONSGML v1.0//EN
CALSCALE:GREGORIAN
METHOD:PUBLISH
X-WR-CALNAME:mbike.gr
X-ORIGINAL-URL:https://www.mbike.gr
X-WR-CALDESC:mbike.gr - Εκδηλώσεις
BEGIN:VTIMEZONE
TZID:Europe/Athens
BEGIN:DAYLIGHT
TZOFFSETFROM:+0200
TZOFFSETTO:+0300
TZNAME:EEST
DTSTART:20160327T010000
END:DAYLIGHT
BEGIN:STANDARD
TZOFFSETFROM:+0300
TZOFFSETTO:+0200
TZNAME:EET
DTSTART:20161030T010000
END:STANDARD
END:VTIMEZONE
BEGIN:VEVENT
DTSTART;VALUE=DATE:20160619
DTEND;VALUE=DATE:20160620
DTSTAMP:20260420T141438
CREATED:20160610T082015Z
LAST-MODIFIED:20160621T093147Z
UID:17832-1466294400-1466380799@www.mbike.gr
SUMMARY:6ος αγώνας ΜΤΒ Δρόμοι Κερασίου
DESCRIPTION:Κατεβάστε τα αποτελέσματα εδώ\n \nΟΡΕΝ \nΕφήβων 15-18 (με υπογραφή κηδεμόνα) \nΑνδρών 19-29\, 30-39\, 40-49\, 50 + \nΓυναικών \n
URL:https://www.mbike.gr/race/6%ce%bf%cf%82-%ce%b1%ce%b3%cf%8e%ce%bd%ce%b1%cf%82-mtb-%ce%b4%cf%81%cf%8c%ce%bc%ce%bf%ce%b9-%ce%ba%ce%b5%cf%81%ce%b1%cf%83%ce%af%ce%bf%cf%85/
LOCATION:Έδεσσα
CATEGORIES:MTB
END:VEVENT
END:VCALENDAR