BEGIN:VCALENDAR
VERSION:2.0
PRODID:-//mbike.gr - ECPv5.1.2.1//NONSGML v1.0//EN
CALSCALE:GREGORIAN
METHOD:PUBLISH
X-WR-CALNAME:mbike.gr
X-ORIGINAL-URL:https://www.mbike.gr
X-WR-CALDESC:mbike.gr - Εκδηλώσεις
BEGIN:VTIMEZONE
TZID:Europe/Athens
BEGIN:DAYLIGHT
TZOFFSETFROM:+0200
TZOFFSETTO:+0300
TZNAME:EEST
DTSTART:20180325T010000
END:DAYLIGHT
BEGIN:STANDARD
TZOFFSETFROM:+0300
TZOFFSETTO:+0200
TZNAME:EET
DTSTART:20181028T010000
END:STANDARD
END:VTIMEZONE
BEGIN:VEVENT
DTSTART;VALUE=DATE:20180602
DTEND;VALUE=DATE:20180604
DTSTAMP:20260423T085619
CREATED:20180531T101253Z
LAST-MODIFIED:20180531T101503Z
UID:30219-1527897600-1528070399@www.mbike.gr
SUMMARY:5th Molyvos Urban MTB
DESCRIPTION:Άνδρες \nOpen \nKids \n
URL:https://www.mbike.gr/race/5th-molyvos-urban-mtb/
LOCATION:Λέσβος
CATEGORIES:MTB
END:VEVENT
END:VCALENDAR