BEGIN:VCALENDAR
VERSION:2.0
PRODID:-//mbike.gr - ECPv5.1.2.1//NONSGML v1.0//EN
CALSCALE:GREGORIAN
METHOD:PUBLISH
X-WR-CALNAME:mbike.gr
X-ORIGINAL-URL:https://www.mbike.gr
X-WR-CALDESC:mbike.gr - Εκδηλώσεις
BEGIN:VTIMEZONE
TZID:Europe/Athens
BEGIN:DAYLIGHT
TZOFFSETFROM:+0200
TZOFFSETTO:+0300
TZNAME:EEST
DTSTART:20190331T010000
END:DAYLIGHT
BEGIN:STANDARD
TZOFFSETFROM:+0300
TZOFFSETTO:+0200
TZNAME:EET
DTSTART:20191027T010000
END:STANDARD
END:VTIMEZONE
BEGIN:VEVENT
DTSTART;VALUE=DATE:20190311
DTEND;VALUE=DATE:20190312
DTSTAMP:20260420T181923
CREATED:20190305T091203Z
LAST-MODIFIED:20190305T091203Z
UID:34732-1552262400-1552348799@www.mbike.gr
SUMMARY:5ο MTB St George Kiafas
DESCRIPTION:Άνδρες \nΈφηβοι \nΠαίδες \nΓυναίκες \nΝεανίδες \nΜαστερ \nΟπεν \n
URL:https://www.mbike.gr/race/5%ce%bf-mtb-st-george-kiafas/
LOCATION:Μάνδρα Αττικής
END:VEVENT
END:VCALENDAR