BEGIN:VCALENDAR
VERSION:2.0
PRODID:-//mbike.gr - ECPv5.1.2.1//NONSGML v1.0//EN
CALSCALE:GREGORIAN
METHOD:PUBLISH
X-WR-CALNAME:mbike.gr
X-ORIGINAL-URL:https://www.mbike.gr
X-WR-CALDESC:mbike.gr - Εκδηλώσεις
BEGIN:VTIMEZONE
TZID:Europe/Athens
BEGIN:DAYLIGHT
TZOFFSETFROM:+0200
TZOFFSETTO:+0300
TZNAME:EEST
DTSTART:20180325T010000
END:DAYLIGHT
BEGIN:STANDARD
TZOFFSETFROM:+0300
TZOFFSETTO:+0200
TZNAME:EET
DTSTART:20181028T010000
END:STANDARD
END:VTIMEZONE
BEGIN:VEVENT
DTSTART;VALUE=DATE:20180506
DTEND;VALUE=DATE:20180507
DTSTAMP:20260423T091636
CREATED:20180111T085058Z
LAST-MODIFIED:20180111T094148Z
UID:27634-1525564800-1525651199@www.mbike.gr
SUMMARY:3rd Meteora MTB Race 2018-Βασίλης Ευσταθίου
DESCRIPTION:ΟΡΕΝ μικρή διαδρομή 1:\nΟΡΕΝ παίδες 15-18\, ΟΡΕΝ Άνδρες 18+\, ΟΡΕΝ Γυναίκες μία κατηγορία \nΟΡΕΝ μεγάλη διαδρομή 2:\nΟΡΕΝ Άνδρες Α1: έως 18\, Α2: 18+\, Α3: 30+\, Α4: 40+\, Α5: 50+\, και ΟΡΕΝ ΓΥΝΑΙΚΕΣ μια κατηγορία. \n  \nhttps://www.facebook.com/Meteora-MTB-Race-Vasilis-Efstathiou-561996880647764/ \n  \n
URL:https://www.mbike.gr/race/3rd-meteora-mtb-race-2018-%ce%b2%ce%b1%cf%83%ce%af%ce%bb%ce%b7%cf%82-%ce%b5%cf%85%cf%83%cf%84%ce%b1%ce%b8%ce%af%ce%bf%cf%85/
LOCATION:Μετέωρα
CATEGORIES:MTB
END:VEVENT
END:VCALENDAR