BEGIN:VCALENDAR
VERSION:2.0
PRODID:-//mbike.gr - ECPv5.1.2.1//NONSGML v1.0//EN
CALSCALE:GREGORIAN
METHOD:PUBLISH
X-WR-CALNAME:mbike.gr
X-ORIGINAL-URL:https://www.mbike.gr
X-WR-CALDESC:mbike.gr - Εκδηλώσεις
BEGIN:VTIMEZONE
TZID:Europe/Athens
BEGIN:DAYLIGHT
TZOFFSETFROM:+0200
TZOFFSETTO:+0300
TZNAME:EEST
DTSTART:20160327T010000
END:DAYLIGHT
BEGIN:STANDARD
TZOFFSETFROM:+0300
TZOFFSETTO:+0200
TZNAME:EET
DTSTART:20161030T010000
END:STANDARD
END:VTIMEZONE
BEGIN:VEVENT
DTSTART;VALUE=DATE:20160514
DTEND;VALUE=DATE:20160516
DTSTAMP:20260424T103237
CREATED:20160216T104227Z
LAST-MODIFIED:20160216T104227Z
UID:15163-1463184000-1463356799@www.mbike.gr
SUMMARY:3ο almiraMAN 2016
DESCRIPTION:
URL:https://www.mbike.gr/race/3%ce%bf-almiraman-2016/
LOCATION:Αικατερίνη
CATEGORIES:MULTISPORT
END:VEVENT
END:VCALENDAR