BEGIN:VCALENDAR
VERSION:2.0
PRODID:-//mbike.gr - ECPv5.1.2.1//NONSGML v1.0//EN
CALSCALE:GREGORIAN
METHOD:PUBLISH
X-WR-CALNAME:mbike.gr
X-ORIGINAL-URL:https://www.mbike.gr
X-WR-CALDESC:mbike.gr - Εκδηλώσεις
BEGIN:VTIMEZONE
TZID:Europe/Athens
BEGIN:DAYLIGHT
TZOFFSETFROM:+0200
TZOFFSETTO:+0300
TZNAME:EEST
DTSTART:20160327T010000
END:DAYLIGHT
BEGIN:STANDARD
TZOFFSETFROM:+0300
TZOFFSETTO:+0200
TZNAME:EET
DTSTART:20161030T010000
END:STANDARD
END:VTIMEZONE
BEGIN:VEVENT
DTSTART;TZID=Europe/Athens:20160709T180000
DTEND;TZID=Europe/Athens:20160709T190000
DTSTAMP:20260423T134454
CREATED:20160704T101527Z
LAST-MODIFIED:20160704T101527Z
UID:18637-1468087200-1468090800@www.mbike.gr
SUMMARY:2nd Vatera MTB RACE
DESCRIPTION:Κατηγορίες Διαγωνιζόμενων\n1. ΕΦΗΒΩΝ από 15 μέχρι 18 ετών\n2. ΑΝΔΡΩΝ από 18 μέχρι 40 ετών\n3. ΒΕΤΕΡΑΝΩΝ από 40 και πάνω\n4. ΓΥΝΑΙΚΩΝ όλες οι ηλικίες \nΜετά το τέλος του ποδηλατικού γύρου και μέχρι την έκδοση των αποτελεσμάτων\, θα ακολουθήσει η κατηγορία των ΠΑΙΔΩΝ από 10 μέχρι 14 ετών\, σε ειδικά διαμορφωμένη σηματοδοτημένη διαδρομή. \n
URL:https://www.mbike.gr/race/2nd-vatera-mtb-race/
LOCATION:Unnamed Venue\, Βατερά\, Λέσβος\, Ελλάδα
CATEGORIES:MTB
END:VEVENT
END:VCALENDAR