BEGIN:VCALENDAR
VERSION:2.0
PRODID:-//mbike.gr - ECPv5.1.2.1//NONSGML v1.0//EN
CALSCALE:GREGORIAN
METHOD:PUBLISH
X-WR-CALNAME:mbike.gr
X-ORIGINAL-URL:https://www.mbike.gr
X-WR-CALDESC:mbike.gr - Εκδηλώσεις
BEGIN:VTIMEZONE
TZID:Europe/Athens
BEGIN:DAYLIGHT
TZOFFSETFROM:+0200
TZOFFSETTO:+0300
TZNAME:EEST
DTSTART:20180325T010000
END:DAYLIGHT
BEGIN:STANDARD
TZOFFSETFROM:+0300
TZOFFSETTO:+0200
TZNAME:EET
DTSTART:20181028T010000
END:STANDARD
END:VTIMEZONE
BEGIN:VEVENT
DTSTART;VALUE=DATE:20180519
DTEND;VALUE=DATE:20180521
DTSTAMP:20260420T214353
CREATED:20180305T094828Z
LAST-MODIFIED:20180305T094828Z
UID:28685-1526688000-1526860799@www.mbike.gr
SUMMARY:2nd & 3rd Lepanto Cross Country Bike UCI XCO Cross
DESCRIPTION:
URL:https://www.mbike.gr/race/2nd-3rd-lepanto-cross-country-bike-uci-xco-cross/
LOCATION:Ναύπακτος\, Ναύπακτος\, Greece
CATEGORIES:MTB
END:VEVENT
END:VCALENDAR