BEGIN:VCALENDAR
VERSION:2.0
PRODID:-//mbike.gr - ECPv5.1.2.1//NONSGML v1.0//EN
CALSCALE:GREGORIAN
METHOD:PUBLISH
X-WR-CALNAME:mbike.gr
X-ORIGINAL-URL:https://www.mbike.gr
X-WR-CALDESC:mbike.gr - Εκδηλώσεις
BEGIN:VTIMEZONE
TZID:Europe/Athens
BEGIN:DAYLIGHT
TZOFFSETFROM:+0200
TZOFFSETTO:+0300
TZNAME:EEST
DTSTART:20190331T010000
END:DAYLIGHT
BEGIN:STANDARD
TZOFFSETFROM:+0300
TZOFFSETTO:+0200
TZNAME:EET
DTSTART:20191027T010000
END:STANDARD
END:VTIMEZONE
BEGIN:VEVENT
DTSTART;VALUE=DATE:20190804
DTEND;VALUE=DATE:20190805
DTSTAMP:20260420T161120
CREATED:20190626T123227Z
LAST-MODIFIED:20190626T123227Z
UID:36929-1564876800-1564963199@www.mbike.gr
SUMMARY:1st Samos XCO MTB Race
DESCRIPTION:Ανδρών \nΓυναικών \nΜάστερς \n
URL:https://www.mbike.gr/race/1st-samos-xco-mtb-race/
LOCATION:Σάμος
END:VEVENT
END:VCALENDAR