BEGIN:VCALENDAR
VERSION:2.0
PRODID:-//mbike.gr - ECPv5.1.2.1//NONSGML v1.0//EN
CALSCALE:GREGORIAN
METHOD:PUBLISH
X-WR-CALNAME:mbike.gr
X-ORIGINAL-URL:https://www.mbike.gr
X-WR-CALDESC:mbike.gr - Εκδηλώσεις
BEGIN:VTIMEZONE
TZID:Europe/Athens
BEGIN:DAYLIGHT
TZOFFSETFROM:+0200
TZOFFSETTO:+0300
TZNAME:EEST
DTSTART:20190331T010000
END:DAYLIGHT
BEGIN:STANDARD
TZOFFSETFROM:+0300
TZOFFSETTO:+0200
TZNAME:EET
DTSTART:20191027T010000
END:STANDARD
END:VTIMEZONE
BEGIN:VEVENT
DTSTART;VALUE=DATE:20190317
DTEND;VALUE=DATE:20190318
DTSTAMP:20260420T181819
CREATED:20190215T091123Z
LAST-MODIFIED:20190215T091123Z
UID:33825-1552780800-1552867199@www.mbike.gr
SUMMARY:104 Popolarissima
DESCRIPTION:ΜΕ      1.2 \n
URL:https://www.mbike.gr/race/104-popolarissima/
LOCATION:Ιταλία
CATEGORIES:ROAD
END:VEVENT
END:VCALENDAR