BEGIN:VCALENDAR
VERSION:2.0
PRODID:-//mbike.gr - ECPv5.1.2.1//NONSGML v1.0//EN
CALSCALE:GREGORIAN
METHOD:PUBLISH
X-WR-CALNAME:mbike.gr
X-ORIGINAL-URL:https://www.mbike.gr
X-WR-CALDESC:mbike.gr - Εκδηλώσεις
BEGIN:VTIMEZONE
TZID:Europe/Athens
BEGIN:DAYLIGHT
TZOFFSETFROM:+0200
TZOFFSETTO:+0300
TZNAME:EEST
DTSTART:20190331T010000
END:DAYLIGHT
BEGIN:STANDARD
TZOFFSETFROM:+0300
TZOFFSETTO:+0200
TZNAME:EET
DTSTART:20191027T010000
END:STANDARD
END:VTIMEZONE
BEGIN:VEVENT
DTSTART;TZID=Europe/Athens:20190303T100000
DTEND;TZID=Europe/Athens:20190303T140000
DTSTAMP:20260420T042432
CREATED:20190111T110642Z
LAST-MODIFIED:20190111T111152Z
UID:33159-1551607200-1551621600@www.mbike.gr
SUMMARY:Χορτιάτης Trail Run
DESCRIPTION:αγώνας ορεινού τρεξίματος \n
URL:https://www.mbike.gr/race/%cf%87%ce%bf%cf%81%cf%84%ce%b9%ce%ac%cf%84%ce%b7%cf%82-trail-run/
LOCATION:Χορτιάτης Θεσσλονίκης
END:VEVENT
END:VCALENDAR