BEGIN:VCALENDAR
VERSION:2.0
PRODID:-//mbike.gr - ECPv5.1.2.1//NONSGML v1.0//EN
CALSCALE:GREGORIAN
METHOD:PUBLISH
X-WR-CALNAME:mbike.gr
X-ORIGINAL-URL:https://www.mbike.gr
X-WR-CALDESC:mbike.gr - Εκδηλώσεις
BEGIN:VTIMEZONE
TZID:Europe/Athens
BEGIN:DAYLIGHT
TZOFFSETFROM:+0200
TZOFFSETTO:+0300
TZNAME:EEST
DTSTART:20190331T010000
END:DAYLIGHT
BEGIN:STANDARD
TZOFFSETFROM:+0300
TZOFFSETTO:+0200
TZNAME:EET
DTSTART:20191027T010000
END:STANDARD
END:VTIMEZONE
BEGIN:VEVENT
DTSTART;VALUE=DATE:20190707
DTEND;VALUE=DATE:20190708
DTSTAMP:20260420T164330
CREATED:20190626T111530Z
LAST-MODIFIED:20190626T111530Z
UID:36892-1562457600-1562543999@www.mbike.gr
SUMMARY:ΠΑΝΕΛΛΗΝΙΟ ΠΡΩΤΑΘΛΗΜΑ ΔΡΟΜΟΥ Ατ. Χρονομ.
DESCRIPTION:CN \nΚάτω των 23 \nΕφήβων \nΝεανίδων \nΠαίδων \nΚορασίδων \n
URL:https://www.mbike.gr/race/%cf%80%ce%b1%ce%bd%ce%b5%ce%bb%ce%bb%ce%b7%ce%bd%ce%b9%ce%bf-%cf%80%cf%81%cf%89%cf%84%ce%b1%ce%b8%ce%bb%ce%b7%ce%bc%ce%b1-%ce%b4%cf%81%ce%bf%ce%bc%ce%bf%cf%85-%ce%b1%cf%84-%cf%87%cf%81%ce%bf%ce%bd/
LOCATION:Θα ανακοινωθεί
END:VEVENT
END:VCALENDAR