BEGIN:VCALENDAR
VERSION:2.0
PRODID:-//mbike.gr - ECPv5.1.2.1//NONSGML v1.0//EN
CALSCALE:GREGORIAN
METHOD:PUBLISH
X-WR-CALNAME:mbike.gr
X-ORIGINAL-URL:https://www.mbike.gr
X-WR-CALDESC:mbike.gr - Εκδηλώσεις
BEGIN:VTIMEZONE
TZID:Europe/Athens
BEGIN:DAYLIGHT
TZOFFSETFROM:+0200
TZOFFSETTO:+0300
TZNAME:EEST
DTSTART:20190331T010000
END:DAYLIGHT
BEGIN:STANDARD
TZOFFSETFROM:+0300
TZOFFSETTO:+0200
TZNAME:EET
DTSTART:20191027T010000
END:STANDARD
END:VTIMEZONE
BEGIN:VEVENT
DTSTART;VALUE=DATE:20191006
DTEND;VALUE=DATE:20191007
DTSTAMP:20260420T125639
CREATED:20190725T091435Z
LAST-MODIFIED:20190725T091435Z
UID:37337-1570320000-1570406399@www.mbike.gr
SUMMARY:ΠΑΝΕΛΛΗΝΙΟ ΕΝΟΠΛΩΝ ΔΥΝΑΜΕΩΝ & ΣΩΜΑΤΩΝ
DESCRIPTION:Ανδρών \nΓυναικών \n
URL:https://www.mbike.gr/race/%cf%80%ce%b1%ce%bd%ce%b5%ce%bb%ce%bb%ce%b7%ce%bd%ce%b9%ce%bf-%ce%b5%ce%bd%ce%bf%cf%80%ce%bb%cf%89%ce%bd-%ce%b4%cf%85%ce%bd%ce%b1%ce%bc%ce%b5%cf%89%ce%bd-%cf%83%cf%89%ce%bc%ce%b1%cf%84%cf%89%ce%bd/
LOCATION:Θα ανακοινωθεί
END:VEVENT
END:VCALENDAR