BEGIN:VCALENDAR
VERSION:2.0
PRODID:-//mbike.gr - ECPv5.1.2.1//NONSGML v1.0//EN
CALSCALE:GREGORIAN
METHOD:PUBLISH
X-WR-CALNAME:mbike.gr
X-ORIGINAL-URL:https://www.mbike.gr
X-WR-CALDESC:mbike.gr - Εκδηλώσεις
BEGIN:VTIMEZONE
TZID:Europe/Athens
BEGIN:DAYLIGHT
TZOFFSETFROM:+0200
TZOFFSETTO:+0300
TZNAME:EEST
DTSTART:20170326T010000
END:DAYLIGHT
BEGIN:STANDARD
TZOFFSETFROM:+0300
TZOFFSETTO:+0200
TZNAME:EET
DTSTART:20171029T010000
END:STANDARD
END:VTIMEZONE
BEGIN:VEVENT
DTSTART;VALUE=DATE:20170826
DTEND;VALUE=DATE:20170827
DTSTAMP:20260420T164306
CREATED:20170411T113313Z
LAST-MODIFIED:20170411T113313Z
UID:23443-1503705600-1503791999@www.mbike.gr
SUMMARY:Παιδικό Τρίαθλο (kid cross3athlon)
DESCRIPTION:Οι μικροί φίλοι του αγώνα θα κολυμπήσουν 50μ στον Αώο στην συνέχεια θα τρέξουν 1500μ και τέλος θα ποδηλατίσουν 700μ πριν τερματίσουν στην πέτρινη γέφυρα της Βωβούσας. \n
URL:https://www.mbike.gr/race/%cf%80%ce%b1%ce%b9%ce%b4%ce%b9%ce%ba%cf%8c-%cf%84%cf%81%ce%af%ce%b1%ce%b8%ce%bb%ce%bf-kid-cross3athlon/
LOCATION:Βωβούσα\, Ζαγόρι\, Ελλάδα
CATEGORIES:MTB
END:VEVENT
END:VCALENDAR