BEGIN:VCALENDAR
VERSION:2.0
PRODID:-//mbike.gr - ECPv5.1.2.1//NONSGML v1.0//EN
CALSCALE:GREGORIAN
METHOD:PUBLISH
X-WR-CALNAME:mbike.gr
X-ORIGINAL-URL:https://www.mbike.gr
X-WR-CALDESC:mbike.gr - Εκδηλώσεις
BEGIN:VTIMEZONE
TZID:Europe/Athens
BEGIN:DAYLIGHT
TZOFFSETFROM:+0200
TZOFFSETTO:+0300
TZNAME:EEST
DTSTART:20180325T010000
END:DAYLIGHT
BEGIN:STANDARD
TZOFFSETFROM:+0300
TZOFFSETTO:+0200
TZNAME:EET
DTSTART:20181028T010000
END:STANDARD
END:VTIMEZONE
BEGIN:VEVENT
DTSTART;VALUE=DATE:20180520
DTEND;VALUE=DATE:20180521
DTSTAMP:20260420T195620
CREATED:20180227T144711Z
LAST-MODIFIED:20180227T144711Z
UID:28567-1526774400-1526860799@www.mbike.gr
SUMMARY:Γύρος Βορ. Ευβοίας
DESCRIPTION:Αντοχής \n
URL:https://www.mbike.gr/race/%ce%b3%cf%8d%cf%81%ce%bf%cf%82-%ce%b2%ce%bf%cf%81-%ce%b5%cf%85%ce%b2%ce%bf%ce%af%ce%b1%cf%82/
LOCATION:Εύβοια
CATEGORIES:ROAD
END:VEVENT
END:VCALENDAR