BEGIN:VCALENDAR
VERSION:2.0
PRODID:-//mbike.gr - ECPv5.1.2.1//NONSGML v1.0//EN
CALSCALE:GREGORIAN
METHOD:PUBLISH
X-WR-CALNAME:mbike.gr
X-ORIGINAL-URL:https://www.mbike.gr
X-WR-CALDESC:mbike.gr - Εκδηλώσεις
BEGIN:VTIMEZONE
TZID:Europe/Athens
BEGIN:DAYLIGHT
TZOFFSETFROM:+0200
TZOFFSETTO:+0300
TZNAME:EEST
DTSTART:20170326T010000
END:DAYLIGHT
BEGIN:STANDARD
TZOFFSETFROM:+0300
TZOFFSETTO:+0200
TZNAME:EET
DTSTART:20171029T010000
END:STANDARD
END:VTIMEZONE
BEGIN:VEVENT
DTSTART;VALUE=DATE:20171021
DTEND;VALUE=DATE:20171023
DTSTAMP:20260420T151030
CREATED:20170919T092807Z
LAST-MODIFIED:20170919T092807Z
UID:26290-1508544000-1508716799@www.mbike.gr
SUMMARY:Άθλος Μαινάλου 2017
DESCRIPTION:
URL:https://www.mbike.gr/race/%ce%ac%ce%b8%ce%bb%ce%bf%cf%82-%ce%bc%ce%b1%ce%b9%ce%bd%ce%ac%ce%bb%ce%bf%cf%85-2017/
LOCATION:Βυτίνα
CATEGORIES:MTB
END:VEVENT
END:VCALENDAR